BEGIN:VCALENDAR
VERSION:2.0
PRODID:-//FRAA - ECPv6.15.20//NONSGML v1.0//EN
CALSCALE:GREGORIAN
METHOD:PUBLISH
X-ORIGINAL-URL:https://fraaoregon.org
X-WR-CALDESC:Events for FRAA
REFRESH-INTERVAL;VALUE=DURATION:PT1H
X-Robots-Tag:noindex
X-PUBLISHED-TTL:PT1H
BEGIN:VTIMEZONE
TZID:America/Los_Angeles
BEGIN:DAYLIGHT
TZOFFSETFROM:-0800
TZOFFSETTO:-0700
TZNAME:PDT
DTSTART:20250309T100000
END:DAYLIGHT
BEGIN:STANDARD
TZOFFSETFROM:-0700
TZOFFSETTO:-0800
TZNAME:PST
DTSTART:20251102T090000
END:STANDARD
BEGIN:DAYLIGHT
TZOFFSETFROM:-0800
TZOFFSETTO:-0700
TZNAME:PDT
DTSTART:20260308T100000
END:DAYLIGHT
BEGIN:STANDARD
TZOFFSETFROM:-0700
TZOFFSETTO:-0800
TZNAME:PST
DTSTART:20261101T090000
END:STANDARD
BEGIN:DAYLIGHT
TZOFFSETFROM:-0800
TZOFFSETTO:-0700
TZNAME:PDT
DTSTART:20270314T100000
END:DAYLIGHT
BEGIN:STANDARD
TZOFFSETFROM:-0700
TZOFFSETTO:-0800
TZNAME:PST
DTSTART:20271107T090000
END:STANDARD
END:VTIMEZONE
BEGIN:VEVENT
DTSTART;TZID=America/Los_Angeles:20260609T083000
DTEND;TZID=America/Los_Angeles:20260609T113000
DTSTAMP:20260420T022749
CREATED:20260305T175839Z
LAST-MODIFIED:20260305T184615Z
UID:10002731-1780993800-1781004600@fraaoregon.org
SUMMARY:Oil Painting Tuesday - John Leasure
DESCRIPTION:Come paint in a relaxing and instructive environment. Come one week or every week to try different scenes including flowers\, ocean views\, country views and so forth. \n\n\n\nFor more information and/or to register\, contact John Leasure at jnleasure@hotmail.com or call 541-991-2754.
URL:https://fraaoregon.org/calendar/oil-painting-tuesday-john-leasure/2026-06-09/
LOCATION:Florence Event Center\, 715 Quince St\, Florence\, OR\, 97439\, United States
CATEGORIES:Class - Repeating
ATTACH;FMTTYPE=image/jpeg:https://fraaoregon.org/wp-content/uploads/2026/03/John-Leasure-Tuesday.jpg
END:VEVENT
BEGIN:VEVENT
DTSTART;TZID=America/Los_Angeles:20260611T103000
DTEND;TZID=America/Los_Angeles:20260611T123000
DTSTAMP:20260420T022749
CREATED:20251214T031300Z
LAST-MODIFIED:20251214T052053Z
UID:10001314-1781173800-1781181000@fraaoregon.org
SUMMARY:Open Weaving Studio - Gallery
DESCRIPTION:
URL:https://fraaoregon.org/calendar/open-weaving-studio/2026-06-11/
LOCATION:FRAA Art Gallery\, 120 Maple St\, Florence\, OR\, 97439\, United States
CATEGORIES:Public Events & Open Studio
ATTACH;FMTTYPE=image/png:https://fraaoregon.org/wp-content/uploads/2025/12/Fiber-Open-Studio-1.png
END:VEVENT
BEGIN:VEVENT
DTSTART;TZID=America/Los_Angeles:20260612T120000
DTEND;TZID=America/Los_Angeles:20260612T160000
DTSTAMP:20260420T022749
CREATED:20251217T004544Z
LAST-MODIFIED:20251217T004547Z
UID:10000792-1781265600-1781280000@fraaoregon.org
SUMMARY:Open Studio - Creative Center
DESCRIPTION:
URL:https://fraaoregon.org/calendar/open-studio-creative/2026-06-12/
LOCATION:FRAA Creative Center\, 1458 1st St.\, Florence\, 97439
CATEGORIES:Public Events & Open Studio
ATTACH;FMTTYPE=image/png:https://fraaoregon.org/wp-content/uploads/2025/12/Open-Studios-at-FRAA-1.png
END:VEVENT
BEGIN:VEVENT
DTSTART;TZID=America/Los_Angeles:20260613T090000
DTEND;TZID=America/Los_Angeles:20260613T120000
DTSTAMP:20260420T022749
CREATED:20251218T220449Z
LAST-MODIFIED:20251218T220452Z
UID:10002415-1781341200-1781352000@fraaoregon.org
SUMMARY:Oil Painting - John Leasure
DESCRIPTION:Oil Painting  Saturdays\, 9 am – 12 pm NoonCome paint in a relaxing and instructive environment.  Come one week or every week to try different scenes including flowers\, ocean views\, country views and so forth. \n\n\n\nFor more information and/or to register\, contact John Leasure at jnleasure@hotmail.com or call 541-991-2754.
URL:https://fraaoregon.org/calendar/oil-painting-john-leasure/2026-06-13/
LOCATION:FRAA Creative Center\, 1458 1st St.\, Florence\, 97439
CATEGORIES:Class - Repeating
ATTACH;FMTTYPE=image/jpeg:https://fraaoregon.org/wp-content/uploads/2025/12/Oil-Painting-3.jpg
END:VEVENT
END:VCALENDAR