BEGIN:VCALENDAR
VERSION:2.0
PRODID:-//FRAA - ECPv6.15.20//NONSGML v1.0//EN
CALSCALE:GREGORIAN
METHOD:PUBLISH
X-ORIGINAL-URL:https://fraaoregon.org
X-WR-CALDESC:Events for FRAA
REFRESH-INTERVAL;VALUE=DURATION:PT1H
X-Robots-Tag:noindex
X-PUBLISHED-TTL:PT1H
BEGIN:VTIMEZONE
TZID:America/Los_Angeles
BEGIN:DAYLIGHT
TZOFFSETFROM:-0800
TZOFFSETTO:-0700
TZNAME:PDT
DTSTART:20250309T100000
END:DAYLIGHT
BEGIN:STANDARD
TZOFFSETFROM:-0700
TZOFFSETTO:-0800
TZNAME:PST
DTSTART:20251102T090000
END:STANDARD
BEGIN:DAYLIGHT
TZOFFSETFROM:-0800
TZOFFSETTO:-0700
TZNAME:PDT
DTSTART:20260308T100000
END:DAYLIGHT
BEGIN:STANDARD
TZOFFSETFROM:-0700
TZOFFSETTO:-0800
TZNAME:PST
DTSTART:20261101T090000
END:STANDARD
BEGIN:DAYLIGHT
TZOFFSETFROM:-0800
TZOFFSETTO:-0700
TZNAME:PDT
DTSTART:20270314T100000
END:DAYLIGHT
BEGIN:STANDARD
TZOFFSETFROM:-0700
TZOFFSETTO:-0800
TZNAME:PST
DTSTART:20271107T090000
END:STANDARD
END:VTIMEZONE
BEGIN:VEVENT
DTSTART;TZID=America/Los_Angeles:20260310T083000
DTEND;TZID=America/Los_Angeles:20260310T113000
DTSTAMP:20260422T023451
CREATED:20260305T175839Z
LAST-MODIFIED:20260305T184615Z
UID:10002718-1773131400-1773142200@fraaoregon.org
SUMMARY:Oil Painting Tuesday - John Leasure
DESCRIPTION:Come paint in a relaxing and instructive environment. Come one week or every week to try different scenes including flowers\, ocean views\, country views and so forth. \n\n\n\nFor more information and/or to register\, contact John Leasure at jnleasure@hotmail.com or call 541-991-2754.
URL:https://fraaoregon.org/calendar/oil-painting-tuesday-john-leasure/2026-03-10/
LOCATION:Florence Event Center\, 715 Quince St\, Florence\, OR\, 97439\, United States
CATEGORIES:Class - Repeating
ATTACH;FMTTYPE=image/jpeg:https://fraaoregon.org/wp-content/uploads/2026/03/John-Leasure-Tuesday.jpg
END:VEVENT
BEGIN:VEVENT
DTSTART;TZID=America/Los_Angeles:20260311T133000
DTEND;TZID=America/Los_Angeles:20260311T153000
DTSTAMP:20260422T023451
CREATED:20260127T171912Z
LAST-MODIFIED:20260221T182627Z
UID:10002664-1773235800-1773243000@fraaoregon.org
SUMMARY:Beginning Watercolor 1 (Introduction) - Peggy Ross
DESCRIPTION:Sign Up Now!
URL:https://fraaoregon.org/calendar/beginning-watercolor-1-introduction-peggy-ross/2026-03-11/
LOCATION:FRAA Creative Center\, 1458 1st St.\, Florence\, 97439
CATEGORIES:Class
ATTACH;FMTTYPE=image/png:https://fraaoregon.org/wp-content/uploads/2026/01/Beginning-Watercolor-1-Introduction-Peggy-Ross.png
END:VEVENT
BEGIN:VEVENT
DTSTART;TZID=America/Los_Angeles:20260312T100000
DTEND;TZID=America/Los_Angeles:20260312T120000
DTSTAMP:20260422T023451
CREATED:20260305T184450Z
LAST-MODIFIED:20260305T184453Z
UID:10002980-1773309600-1773316800@fraaoregon.org
SUMMARY:Drawing Basics - Graphite
DESCRIPTION:Signup Now!
URL:https://fraaoregon.org/calendar/drawing-basics-graphite/2026-03-12/
LOCATION:Florence Event Center\, 715 Quince St\, Florence\, OR\, 97439\, United States
CATEGORIES:Class
ATTACH;FMTTYPE=image/jpeg:https://fraaoregon.org/wp-content/uploads/2026/03/Drawing-Basics-Graphite-3.jpg
END:VEVENT
BEGIN:VEVENT
DTSTART;TZID=America/Los_Angeles:20260312T103000
DTEND;TZID=America/Los_Angeles:20260312T123000
DTSTAMP:20260422T023451
CREATED:20251214T031300Z
LAST-MODIFIED:20251214T052053Z
UID:10001301-1773311400-1773318600@fraaoregon.org
SUMMARY:Open Weaving Studio - Gallery
DESCRIPTION:
URL:https://fraaoregon.org/calendar/open-weaving-studio/2026-03-12/
LOCATION:FRAA Art Gallery\, 120 Maple St\, Florence\, OR\, 97439\, United States
CATEGORIES:Public Events & Open Studio
ATTACH;FMTTYPE=image/png:https://fraaoregon.org/wp-content/uploads/2025/12/Fiber-Open-Studio-1.png
END:VEVENT
BEGIN:VEVENT
DTSTART;TZID=America/Los_Angeles:20260313T120000
DTEND;TZID=America/Los_Angeles:20260313T160000
DTSTAMP:20260422T023451
CREATED:20251217T004544Z
LAST-MODIFIED:20251217T004547Z
UID:10000779-1773403200-1773417600@fraaoregon.org
SUMMARY:Open Studio - Creative Center
DESCRIPTION:
URL:https://fraaoregon.org/calendar/open-studio-creative/2026-03-13/
LOCATION:FRAA Creative Center\, 1458 1st St.\, Florence\, 97439
CATEGORIES:Public Events & Open Studio
ATTACH;FMTTYPE=image/png:https://fraaoregon.org/wp-content/uploads/2025/12/Open-Studios-at-FRAA-1.png
END:VEVENT
BEGIN:VEVENT
DTSTART;TZID=America/Los_Angeles:20260314T090000
DTEND;TZID=America/Los_Angeles:20260314T120000
DTSTAMP:20260422T023451
CREATED:20251218T220449Z
LAST-MODIFIED:20251218T220452Z
UID:10002402-1773478800-1773489600@fraaoregon.org
SUMMARY:Oil Painting - John Leasure
DESCRIPTION:Oil Painting  Saturdays\, 9 am – 12 pm NoonCome paint in a relaxing and instructive environment.  Come one week or every week to try different scenes including flowers\, ocean views\, country views and so forth. \n\n\n\nFor more information and/or to register\, contact John Leasure at jnleasure@hotmail.com or call 541-991-2754.
URL:https://fraaoregon.org/calendar/oil-painting-john-leasure/2026-03-14/
LOCATION:FRAA Creative Center\, 1458 1st St.\, Florence\, 97439
CATEGORIES:Class - Repeating
ATTACH;FMTTYPE=image/jpeg:https://fraaoregon.org/wp-content/uploads/2025/12/Oil-Painting-3.jpg
END:VEVENT
BEGIN:VEVENT
DTSTART;TZID=America/Los_Angeles:20260314T150000
DTEND;TZID=America/Los_Angeles:20260314T170000
DTSTAMP:20260422T023451
CREATED:20260305T184857Z
LAST-MODIFIED:20260305T185509Z
UID:10002986-1773500400-1773507600@fraaoregon.org
SUMMARY:Second Saturday - FRAA
DESCRIPTION:
URL:https://fraaoregon.org/calendar/second-saturday-fraa/
LOCATION:FRAA Art Gallery\, 120 Maple St\, Florence\, OR\, 97439\, United States
CATEGORIES:Event
ATTACH;FMTTYPE=image/jpeg:https://fraaoregon.org/wp-content/uploads/2026/03/March-2026-2nd-Sat.jpg
END:VEVENT
END:VCALENDAR