BEGIN:VCALENDAR
VERSION:2.0
PRODID:-//FRAA - ECPv6.15.20//NONSGML v1.0//EN
CALSCALE:GREGORIAN
METHOD:PUBLISH
X-WR-CALNAME:FRAA
X-ORIGINAL-URL:https://fraaoregon.org
X-WR-CALDESC:Events for FRAA
REFRESH-INTERVAL;VALUE=DURATION:PT1H
X-Robots-Tag:noindex
X-PUBLISHED-TTL:PT1H
BEGIN:VTIMEZONE
TZID:America/Los_Angeles
BEGIN:DAYLIGHT
TZOFFSETFROM:-0800
TZOFFSETTO:-0700
TZNAME:PDT
DTSTART:20250309T100000
END:DAYLIGHT
BEGIN:STANDARD
TZOFFSETFROM:-0700
TZOFFSETTO:-0800
TZNAME:PST
DTSTART:20251102T090000
END:STANDARD
BEGIN:DAYLIGHT
TZOFFSETFROM:-0800
TZOFFSETTO:-0700
TZNAME:PDT
DTSTART:20260308T100000
END:DAYLIGHT
BEGIN:STANDARD
TZOFFSETFROM:-0700
TZOFFSETTO:-0800
TZNAME:PST
DTSTART:20261101T090000
END:STANDARD
BEGIN:DAYLIGHT
TZOFFSETFROM:-0800
TZOFFSETTO:-0700
TZNAME:PDT
DTSTART:20270314T100000
END:DAYLIGHT
BEGIN:STANDARD
TZOFFSETFROM:-0700
TZOFFSETTO:-0800
TZNAME:PST
DTSTART:20271107T090000
END:STANDARD
END:VTIMEZONE
BEGIN:VEVENT
DTSTART;TZID=America/Los_Angeles:20260224T083000
DTEND;TZID=America/Los_Angeles:20260224T113000
DTSTAMP:20260422T021844
CREATED:20260305T175839Z
LAST-MODIFIED:20260305T184615Z
UID:10002716-1771921800-1771932600@fraaoregon.org
SUMMARY:Oil Painting Tuesday - John Leasure
DESCRIPTION:Come paint in a relaxing and instructive environment. Come one week or every week to try different scenes including flowers\, ocean views\, country views and so forth. \n\n\n\nFor more information and/or to register\, contact John Leasure at jnleasure@hotmail.com or call 541-991-2754.
URL:https://fraaoregon.org/calendar/oil-painting-tuesday-john-leasure/2026-02-24/
LOCATION:Florence Event Center\, 715 Quince St\, Florence\, OR\, 97439\, United States
CATEGORIES:Class - Repeating
ATTACH;FMTTYPE=image/jpeg:https://fraaoregon.org/wp-content/uploads/2026/03/John-Leasure-Tuesday.jpg
END:VEVENT
BEGIN:VEVENT
DTSTART;TZID=America/Los_Angeles:20260225T133000
DTEND;TZID=America/Los_Angeles:20260225T153000
DTSTAMP:20260422T021844
CREATED:20260221T182453Z
LAST-MODIFIED:20260221T182524Z
UID:10002662-1772026200-1772033400@fraaoregon.org
SUMMARY:Beginning Watercolor 1 (Introduction)  - Peggy Ross
DESCRIPTION:Sign Up Now!
URL:https://fraaoregon.org/calendar/beginning-watercolor-1-intdroduction-peggy-ross-2/
LOCATION:FRAA Creative Center\, 1458 1st St.\, Florence\, 97439
CATEGORIES:Class
ATTACH;FMTTYPE=image/png:https://fraaoregon.org/wp-content/uploads/2026/01/Beginning-Watercolor-1-Introduction-Peggy-Ross.png
END:VEVENT
BEGIN:VEVENT
DTSTART;TZID=America/Los_Angeles:20260226T080000
DTEND;TZID=America/Los_Angeles:20260226T170000
DTSTAMP:20260422T021844
CREATED:20251216T211452Z
LAST-MODIFIED:20251219T223743Z
UID:10002376-1772092800-1772125200@fraaoregon.org
SUMMARY:Beginning Frame Loom Weaving – Peggy Ross
DESCRIPTION:Sign Up Now!
URL:https://fraaoregon.org/calendar/beginning-frame-loom-weaving-peggy-ross/2026-02-26/
LOCATION:FRAA Creative Center\, 1458 1st St.\, Florence\, 97439
CATEGORIES:Class
ATTACH;FMTTYPE=image/png:https://fraaoregon.org/wp-content/uploads/2025/12/Beginning-Frame-Loom-Weaving-12.png
END:VEVENT
BEGIN:VEVENT
DTSTART;TZID=America/Los_Angeles:20260226T103000
DTEND;TZID=America/Los_Angeles:20260226T123000
DTSTAMP:20260422T021845
CREATED:20251214T031300Z
LAST-MODIFIED:20251214T052053Z
UID:10001299-1772101800-1772109000@fraaoregon.org
SUMMARY:Open Weaving Studio - Gallery
DESCRIPTION:
URL:https://fraaoregon.org/calendar/open-weaving-studio/2026-02-26/
LOCATION:FRAA Art Gallery\, 120 Maple St\, Florence\, OR\, 97439\, United States
CATEGORIES:Public Events & Open Studio
ATTACH;FMTTYPE=image/png:https://fraaoregon.org/wp-content/uploads/2025/12/Fiber-Open-Studio-1.png
END:VEVENT
BEGIN:VEVENT
DTSTART;TZID=America/Los_Angeles:20260226T140000
DTEND;TZID=America/Los_Angeles:20260226T160000
DTSTAMP:20260422T021845
CREATED:20251216T170929Z
LAST-MODIFIED:20251216T215119Z
UID:10002352-1772114400-1772121600@fraaoregon.org
SUMMARY:Creativity Through Play - Greta Olivas
DESCRIPTION:Sign Up Now
URL:https://fraaoregon.org/calendar/creativity-through-play-greta-olivas/2026-02-26/
LOCATION:FRAA Creative Center\, 1458 1st St.\, Florence\, 97439
CATEGORIES:Class
ATTACH;FMTTYPE=image/png:https://fraaoregon.org/wp-content/uploads/2025/12/Creativity-Through-Play-1.png
END:VEVENT
BEGIN:VEVENT
DTSTART;TZID=America/Los_Angeles:20260227T120000
DTEND;TZID=America/Los_Angeles:20260227T160000
DTSTAMP:20260422T021845
CREATED:20251217T004544Z
LAST-MODIFIED:20251217T004547Z
UID:10000777-1772193600-1772208000@fraaoregon.org
SUMMARY:Open Studio - Creative Center
DESCRIPTION:
URL:https://fraaoregon.org/calendar/open-studio-creative/2026-02-27/
LOCATION:FRAA Creative Center\, 1458 1st St.\, Florence\, 97439
CATEGORIES:Public Events & Open Studio
ATTACH;FMTTYPE=image/png:https://fraaoregon.org/wp-content/uploads/2025/12/Open-Studios-at-FRAA-1.png
END:VEVENT
BEGIN:VEVENT
DTSTART;TZID=America/Los_Angeles:20260227T170000
DTEND;TZID=America/Los_Angeles:20260227T190000
DTSTAMP:20260422T021845
CREATED:20251216T162923Z
LAST-MODIFIED:20251216T162926Z
UID:10001923-1772211600-1772218800@fraaoregon.org
SUMMARY:Draw Together
DESCRIPTION:
URL:https://fraaoregon.org/calendar/draw-together/2026-02-27/
LOCATION:FRAA Creative Center\, 1458 1st St.\, Florence\, 97439
CATEGORIES:Public Events & Open Studio
ATTACH;FMTTYPE=image/jpeg:https://fraaoregon.org/wp-content/uploads/2025/12/Florence-Draw-Together.jpg
END:VEVENT
BEGIN:VEVENT
DTSTART;TZID=America/Los_Angeles:20260228T090000
DTEND;TZID=America/Los_Angeles:20260228T120000
DTSTAMP:20260422T021845
CREATED:20251218T220449Z
LAST-MODIFIED:20251218T220452Z
UID:10002400-1772269200-1772280000@fraaoregon.org
SUMMARY:Oil Painting - John Leasure
DESCRIPTION:Oil Painting  Saturdays\, 9 am – 12 pm NoonCome paint in a relaxing and instructive environment.  Come one week or every week to try different scenes including flowers\, ocean views\, country views and so forth. \n\n\n\nFor more information and/or to register\, contact John Leasure at jnleasure@hotmail.com or call 541-991-2754.
URL:https://fraaoregon.org/calendar/oil-painting-john-leasure/2026-02-28/
LOCATION:FRAA Creative Center\, 1458 1st St.\, Florence\, 97439
CATEGORIES:Class - Repeating
ATTACH;FMTTYPE=image/jpeg:https://fraaoregon.org/wp-content/uploads/2025/12/Oil-Painting-3.jpg
END:VEVENT
END:VCALENDAR