BEGIN:VCALENDAR
VERSION:2.0
PRODID:-//FRAA - ECPv6.15.20//NONSGML v1.0//EN
CALSCALE:GREGORIAN
METHOD:PUBLISH
X-ORIGINAL-URL:https://fraaoregon.org
X-WR-CALDESC:Events for FRAA
REFRESH-INTERVAL;VALUE=DURATION:PT1H
X-Robots-Tag:noindex
X-PUBLISHED-TTL:PT1H
BEGIN:VTIMEZONE
TZID:America/Los_Angeles
BEGIN:DAYLIGHT
TZOFFSETFROM:-0800
TZOFFSETTO:-0700
TZNAME:PDT
DTSTART:20250309T100000
END:DAYLIGHT
BEGIN:STANDARD
TZOFFSETFROM:-0700
TZOFFSETTO:-0800
TZNAME:PST
DTSTART:20251102T090000
END:STANDARD
BEGIN:DAYLIGHT
TZOFFSETFROM:-0800
TZOFFSETTO:-0700
TZNAME:PDT
DTSTART:20260308T100000
END:DAYLIGHT
BEGIN:STANDARD
TZOFFSETFROM:-0700
TZOFFSETTO:-0800
TZNAME:PST
DTSTART:20261101T090000
END:STANDARD
BEGIN:DAYLIGHT
TZOFFSETFROM:-0800
TZOFFSETTO:-0700
TZNAME:PDT
DTSTART:20270314T100000
END:DAYLIGHT
BEGIN:STANDARD
TZOFFSETFROM:-0700
TZOFFSETTO:-0800
TZNAME:PST
DTSTART:20271107T090000
END:STANDARD
END:VTIMEZONE
BEGIN:VEVENT
DTSTART;TZID=America/Los_Angeles:20260702T103000
DTEND;TZID=America/Los_Angeles:20260702T123000
DTSTAMP:20260422T024141
CREATED:20251214T031300Z
LAST-MODIFIED:20251214T052053Z
UID:10001317-1782988200-1782995400@fraaoregon.org
SUMMARY:Open Weaving Studio - Gallery
DESCRIPTION:
URL:https://fraaoregon.org/calendar/open-weaving-studio/2026-07-02/
LOCATION:FRAA Art Gallery\, 120 Maple St\, Florence\, OR\, 97439\, United States
CATEGORIES:Public Events & Open Studio
ATTACH;FMTTYPE=image/png:https://fraaoregon.org/wp-content/uploads/2025/12/Fiber-Open-Studio-1.png
END:VEVENT
BEGIN:VEVENT
DTSTART;TZID=America/Los_Angeles:20260703T120000
DTEND;TZID=America/Los_Angeles:20260703T160000
DTSTAMP:20260422T024141
CREATED:20251217T004544Z
LAST-MODIFIED:20251217T004547Z
UID:10000795-1783080000-1783094400@fraaoregon.org
SUMMARY:Open Studio - Creative Center
DESCRIPTION:
URL:https://fraaoregon.org/calendar/open-studio-creative/2026-07-03/
LOCATION:FRAA Creative Center\, 1458 1st St.\, Florence\, 97439
CATEGORIES:Public Events & Open Studio
ATTACH;FMTTYPE=image/png:https://fraaoregon.org/wp-content/uploads/2025/12/Open-Studios-at-FRAA-1.png
END:VEVENT
BEGIN:VEVENT
DTSTART;TZID=America/Los_Angeles:20260704T090000
DTEND;TZID=America/Los_Angeles:20260704T120000
DTSTAMP:20260422T024141
CREATED:20251218T220449Z
LAST-MODIFIED:20251218T220452Z
UID:10002418-1783155600-1783166400@fraaoregon.org
SUMMARY:Oil Painting - John Leasure
DESCRIPTION:Oil Painting  Saturdays\, 9 am – 12 pm NoonCome paint in a relaxing and instructive environment.  Come one week or every week to try different scenes including flowers\, ocean views\, country views and so forth. \n\n\n\nFor more information and/or to register\, contact John Leasure at jnleasure@hotmail.com or call 541-991-2754.
URL:https://fraaoregon.org/calendar/oil-painting-john-leasure/2026-07-04/
LOCATION:FRAA Creative Center\, 1458 1st St.\, Florence\, 97439
CATEGORIES:Class - Repeating
ATTACH;FMTTYPE=image/jpeg:https://fraaoregon.org/wp-content/uploads/2025/12/Oil-Painting-3.jpg
END:VEVENT
BEGIN:VEVENT
DTSTART;TZID=America/Los_Angeles:20260707T080000
DTEND;TZID=America/Los_Angeles:20260707T170000
DTSTAMP:20260422T024141
CREATED:20250908T183248Z
LAST-MODIFIED:20260207T193810Z
UID:10000092-1783411200-1783443600@fraaoregon.org
SUMMARY:Open Mic Poetry - Big Wave Spoken Word
DESCRIPTION:The Big Wave Spoken Word team is dedicated to promoting and celebrating Poetry and Spoken Word through monthly events and annual contests\, providing poets and writers with an opportunity to share their work with the community. We invite you to join us for First Tuesday Open Mic at FRAA or on Zoom.  Visit Big Wave Spoken Word on Facebook for Zoom link.  We host this event each month\, so check our website or Facebook for updated information. \n\n\n\n\n\n\n\n\n\n\n\n\n\n\n\n\n\n\n\n\nCome ride the words of your favorite poems\, stories and prose!\n\n\n\nEveryone can participate (but isn’t mandatory). You can read from your own work\, from the work of those you admire\, or sing a song.\n\n\n\nAdmission is free. You are always welcome.\n\n\n\n\nEvery last Tuesday of the month Big Wave Spoken Word hosts a Poetry Workshop that consist of a supportive group of local poets that gather monthly to read and discuss their original poetic work. \n\n\n\nFor more information please email Paul Klippel
URL:https://fraaoregon.org/calendar/open-mic-poetry-big-wave-spoken-word/2026-07-07/
LOCATION:FRAA Creative Center\, 1458 1st St.\, Florence\, 97439
CATEGORIES:Public Events & Open Studio
ATTACH;FMTTYPE=image/jpeg:https://fraaoregon.org/wp-content/uploads/2025/09/Poetry-Night-Flyer-Made-with-PosterMyWall-5-1.jpeg
END:VEVENT
BEGIN:VEVENT
DTSTART;TZID=America/Los_Angeles:20260707T083000
DTEND;TZID=America/Los_Angeles:20260707T113000
DTSTAMP:20260422T024141
CREATED:20260305T175839Z
LAST-MODIFIED:20260305T184615Z
UID:10002735-1783413000-1783423800@fraaoregon.org
SUMMARY:Oil Painting Tuesday - John Leasure
DESCRIPTION:Come paint in a relaxing and instructive environment. Come one week or every week to try different scenes including flowers\, ocean views\, country views and so forth. \n\n\n\nFor more information and/or to register\, contact John Leasure at jnleasure@hotmail.com or call 541-991-2754.
URL:https://fraaoregon.org/calendar/oil-painting-tuesday-john-leasure/2026-07-07/
LOCATION:Florence Event Center\, 715 Quince St\, Florence\, OR\, 97439\, United States
CATEGORIES:Class - Repeating
ATTACH;FMTTYPE=image/jpeg:https://fraaoregon.org/wp-content/uploads/2026/03/John-Leasure-Tuesday.jpg
END:VEVENT
BEGIN:VEVENT
DTSTART;TZID=America/Los_Angeles:20260709T103000
DTEND;TZID=America/Los_Angeles:20260709T123000
DTSTAMP:20260422T024141
CREATED:20251214T031300Z
LAST-MODIFIED:20251214T052053Z
UID:10001318-1783593000-1783600200@fraaoregon.org
SUMMARY:Open Weaving Studio - Gallery
DESCRIPTION:
URL:https://fraaoregon.org/calendar/open-weaving-studio/2026-07-09/
LOCATION:FRAA Art Gallery\, 120 Maple St\, Florence\, OR\, 97439\, United States
CATEGORIES:Public Events & Open Studio
ATTACH;FMTTYPE=image/png:https://fraaoregon.org/wp-content/uploads/2025/12/Fiber-Open-Studio-1.png
END:VEVENT
BEGIN:VEVENT
DTSTART;TZID=America/Los_Angeles:20260710T120000
DTEND;TZID=America/Los_Angeles:20260710T160000
DTSTAMP:20260422T024141
CREATED:20251217T004544Z
LAST-MODIFIED:20251217T004547Z
UID:10000796-1783684800-1783699200@fraaoregon.org
SUMMARY:Open Studio - Creative Center
DESCRIPTION:
URL:https://fraaoregon.org/calendar/open-studio-creative/2026-07-10/
LOCATION:FRAA Creative Center\, 1458 1st St.\, Florence\, 97439
CATEGORIES:Public Events & Open Studio
ATTACH;FMTTYPE=image/png:https://fraaoregon.org/wp-content/uploads/2025/12/Open-Studios-at-FRAA-1.png
END:VEVENT
BEGIN:VEVENT
DTSTART;TZID=America/Los_Angeles:20260711T090000
DTEND;TZID=America/Los_Angeles:20260711T120000
DTSTAMP:20260422T024141
CREATED:20251218T220449Z
LAST-MODIFIED:20251218T220452Z
UID:10002419-1783760400-1783771200@fraaoregon.org
SUMMARY:Oil Painting - John Leasure
DESCRIPTION:Oil Painting  Saturdays\, 9 am – 12 pm NoonCome paint in a relaxing and instructive environment.  Come one week or every week to try different scenes including flowers\, ocean views\, country views and so forth. \n\n\n\nFor more information and/or to register\, contact John Leasure at jnleasure@hotmail.com or call 541-991-2754.
URL:https://fraaoregon.org/calendar/oil-painting-john-leasure/2026-07-11/
LOCATION:FRAA Creative Center\, 1458 1st St.\, Florence\, 97439
CATEGORIES:Class - Repeating
ATTACH;FMTTYPE=image/jpeg:https://fraaoregon.org/wp-content/uploads/2025/12/Oil-Painting-3.jpg
END:VEVENT
BEGIN:VEVENT
DTSTART;TZID=America/Los_Angeles:20260714T083000
DTEND;TZID=America/Los_Angeles:20260714T113000
DTSTAMP:20260422T024141
CREATED:20260305T175839Z
LAST-MODIFIED:20260305T184615Z
UID:10002736-1784017800-1784028600@fraaoregon.org
SUMMARY:Oil Painting Tuesday - John Leasure
DESCRIPTION:Come paint in a relaxing and instructive environment. Come one week or every week to try different scenes including flowers\, ocean views\, country views and so forth. \n\n\n\nFor more information and/or to register\, contact John Leasure at jnleasure@hotmail.com or call 541-991-2754.
URL:https://fraaoregon.org/calendar/oil-painting-tuesday-john-leasure/2026-07-14/
LOCATION:Florence Event Center\, 715 Quince St\, Florence\, OR\, 97439\, United States
CATEGORIES:Class - Repeating
ATTACH;FMTTYPE=image/jpeg:https://fraaoregon.org/wp-content/uploads/2026/03/John-Leasure-Tuesday.jpg
END:VEVENT
BEGIN:VEVENT
DTSTART;TZID=America/Los_Angeles:20260716T103000
DTEND;TZID=America/Los_Angeles:20260716T123000
DTSTAMP:20260422T024141
CREATED:20251214T031300Z
LAST-MODIFIED:20251214T052053Z
UID:10001319-1784197800-1784205000@fraaoregon.org
SUMMARY:Open Weaving Studio - Gallery
DESCRIPTION:
URL:https://fraaoregon.org/calendar/open-weaving-studio/2026-07-16/
LOCATION:FRAA Art Gallery\, 120 Maple St\, Florence\, OR\, 97439\, United States
CATEGORIES:Public Events & Open Studio
ATTACH;FMTTYPE=image/png:https://fraaoregon.org/wp-content/uploads/2025/12/Fiber-Open-Studio-1.png
END:VEVENT
BEGIN:VEVENT
DTSTART;TZID=America/Los_Angeles:20260717T120000
DTEND;TZID=America/Los_Angeles:20260717T160000
DTSTAMP:20260422T024141
CREATED:20251217T004544Z
LAST-MODIFIED:20251217T004547Z
UID:10000797-1784289600-1784304000@fraaoregon.org
SUMMARY:Open Studio - Creative Center
DESCRIPTION:
URL:https://fraaoregon.org/calendar/open-studio-creative/2026-07-17/
LOCATION:FRAA Creative Center\, 1458 1st St.\, Florence\, 97439
CATEGORIES:Public Events & Open Studio
ATTACH;FMTTYPE=image/png:https://fraaoregon.org/wp-content/uploads/2025/12/Open-Studios-at-FRAA-1.png
END:VEVENT
BEGIN:VEVENT
DTSTART;TZID=America/Los_Angeles:20260718T090000
DTEND;TZID=America/Los_Angeles:20260718T120000
DTSTAMP:20260422T024141
CREATED:20251218T220449Z
LAST-MODIFIED:20251218T220452Z
UID:10002420-1784365200-1784376000@fraaoregon.org
SUMMARY:Oil Painting - John Leasure
DESCRIPTION:Oil Painting  Saturdays\, 9 am – 12 pm NoonCome paint in a relaxing and instructive environment.  Come one week or every week to try different scenes including flowers\, ocean views\, country views and so forth. \n\n\n\nFor more information and/or to register\, contact John Leasure at jnleasure@hotmail.com or call 541-991-2754.
URL:https://fraaoregon.org/calendar/oil-painting-john-leasure/2026-07-18/
LOCATION:FRAA Creative Center\, 1458 1st St.\, Florence\, 97439
CATEGORIES:Class - Repeating
ATTACH;FMTTYPE=image/jpeg:https://fraaoregon.org/wp-content/uploads/2025/12/Oil-Painting-3.jpg
END:VEVENT
BEGIN:VEVENT
DTSTART;TZID=America/Los_Angeles:20260721T083000
DTEND;TZID=America/Los_Angeles:20260721T113000
DTSTAMP:20260422T024141
CREATED:20260305T175839Z
LAST-MODIFIED:20260305T184615Z
UID:10002737-1784622600-1784633400@fraaoregon.org
SUMMARY:Oil Painting Tuesday - John Leasure
DESCRIPTION:Come paint in a relaxing and instructive environment. Come one week or every week to try different scenes including flowers\, ocean views\, country views and so forth. \n\n\n\nFor more information and/or to register\, contact John Leasure at jnleasure@hotmail.com or call 541-991-2754.
URL:https://fraaoregon.org/calendar/oil-painting-tuesday-john-leasure/2026-07-21/
LOCATION:Florence Event Center\, 715 Quince St\, Florence\, OR\, 97439\, United States
CATEGORIES:Class - Repeating
ATTACH;FMTTYPE=image/jpeg:https://fraaoregon.org/wp-content/uploads/2026/03/John-Leasure-Tuesday.jpg
END:VEVENT
BEGIN:VEVENT
DTSTART;TZID=America/Los_Angeles:20260723T103000
DTEND;TZID=America/Los_Angeles:20260723T123000
DTSTAMP:20260422T024141
CREATED:20251214T031300Z
LAST-MODIFIED:20251214T052053Z
UID:10001320-1784802600-1784809800@fraaoregon.org
SUMMARY:Open Weaving Studio - Gallery
DESCRIPTION:
URL:https://fraaoregon.org/calendar/open-weaving-studio/2026-07-23/
LOCATION:FRAA Art Gallery\, 120 Maple St\, Florence\, OR\, 97439\, United States
CATEGORIES:Public Events & Open Studio
ATTACH;FMTTYPE=image/png:https://fraaoregon.org/wp-content/uploads/2025/12/Fiber-Open-Studio-1.png
END:VEVENT
BEGIN:VEVENT
DTSTART;TZID=America/Los_Angeles:20260724T120000
DTEND;TZID=America/Los_Angeles:20260724T160000
DTSTAMP:20260422T024141
CREATED:20251217T004544Z
LAST-MODIFIED:20251217T004547Z
UID:10000798-1784894400-1784908800@fraaoregon.org
SUMMARY:Open Studio - Creative Center
DESCRIPTION:
URL:https://fraaoregon.org/calendar/open-studio-creative/2026-07-24/
LOCATION:FRAA Creative Center\, 1458 1st St.\, Florence\, 97439
CATEGORIES:Public Events & Open Studio
ATTACH;FMTTYPE=image/png:https://fraaoregon.org/wp-content/uploads/2025/12/Open-Studios-at-FRAA-1.png
END:VEVENT
BEGIN:VEVENT
DTSTART;TZID=America/Los_Angeles:20260724T170000
DTEND;TZID=America/Los_Angeles:20260724T190000
DTSTAMP:20260422T024141
CREATED:20251216T162923Z
LAST-MODIFIED:20251216T162926Z
UID:10001928-1784912400-1784919600@fraaoregon.org
SUMMARY:Draw Together
DESCRIPTION:
URL:https://fraaoregon.org/calendar/draw-together/2026-07-24/
LOCATION:FRAA Creative Center\, 1458 1st St.\, Florence\, 97439
CATEGORIES:Public Events & Open Studio
ATTACH;FMTTYPE=image/jpeg:https://fraaoregon.org/wp-content/uploads/2025/12/Florence-Draw-Together.jpg
END:VEVENT
BEGIN:VEVENT
DTSTART;TZID=America/Los_Angeles:20260725T090000
DTEND;TZID=America/Los_Angeles:20260725T120000
DTSTAMP:20260422T024141
CREATED:20251218T220449Z
LAST-MODIFIED:20251218T220452Z
UID:10002421-1784970000-1784980800@fraaoregon.org
SUMMARY:Oil Painting - John Leasure
DESCRIPTION:Oil Painting  Saturdays\, 9 am – 12 pm NoonCome paint in a relaxing and instructive environment.  Come one week or every week to try different scenes including flowers\, ocean views\, country views and so forth. \n\n\n\nFor more information and/or to register\, contact John Leasure at jnleasure@hotmail.com or call 541-991-2754.
URL:https://fraaoregon.org/calendar/oil-painting-john-leasure/2026-07-25/
LOCATION:FRAA Creative Center\, 1458 1st St.\, Florence\, 97439
CATEGORIES:Class - Repeating
ATTACH;FMTTYPE=image/jpeg:https://fraaoregon.org/wp-content/uploads/2025/12/Oil-Painting-3.jpg
END:VEVENT
BEGIN:VEVENT
DTSTART;TZID=America/Los_Angeles:20260728T083000
DTEND;TZID=America/Los_Angeles:20260728T113000
DTSTAMP:20260422T024141
CREATED:20260305T175839Z
LAST-MODIFIED:20260305T184615Z
UID:10002738-1785227400-1785238200@fraaoregon.org
SUMMARY:Oil Painting Tuesday - John Leasure
DESCRIPTION:Come paint in a relaxing and instructive environment. Come one week or every week to try different scenes including flowers\, ocean views\, country views and so forth. \n\n\n\nFor more information and/or to register\, contact John Leasure at jnleasure@hotmail.com or call 541-991-2754.
URL:https://fraaoregon.org/calendar/oil-painting-tuesday-john-leasure/2026-07-28/
LOCATION:Florence Event Center\, 715 Quince St\, Florence\, OR\, 97439\, United States
CATEGORIES:Class - Repeating
ATTACH;FMTTYPE=image/jpeg:https://fraaoregon.org/wp-content/uploads/2026/03/John-Leasure-Tuesday.jpg
END:VEVENT
BEGIN:VEVENT
DTSTART;TZID=America/Los_Angeles:20260730T103000
DTEND;TZID=America/Los_Angeles:20260730T123000
DTSTAMP:20260422T024141
CREATED:20251214T031300Z
LAST-MODIFIED:20251214T052053Z
UID:10001321-1785407400-1785414600@fraaoregon.org
SUMMARY:Open Weaving Studio - Gallery
DESCRIPTION:
URL:https://fraaoregon.org/calendar/open-weaving-studio/2026-07-30/
LOCATION:FRAA Art Gallery\, 120 Maple St\, Florence\, OR\, 97439\, United States
CATEGORIES:Public Events & Open Studio
ATTACH;FMTTYPE=image/png:https://fraaoregon.org/wp-content/uploads/2025/12/Fiber-Open-Studio-1.png
END:VEVENT
BEGIN:VEVENT
DTSTART;TZID=America/Los_Angeles:20260731T120000
DTEND;TZID=America/Los_Angeles:20260731T160000
DTSTAMP:20260422T024141
CREATED:20251217T004544Z
LAST-MODIFIED:20251217T004547Z
UID:10000799-1785499200-1785513600@fraaoregon.org
SUMMARY:Open Studio - Creative Center
DESCRIPTION:
URL:https://fraaoregon.org/calendar/open-studio-creative/2026-07-31/
LOCATION:FRAA Creative Center\, 1458 1st St.\, Florence\, 97439
CATEGORIES:Public Events & Open Studio
ATTACH;FMTTYPE=image/png:https://fraaoregon.org/wp-content/uploads/2025/12/Open-Studios-at-FRAA-1.png
END:VEVENT
END:VCALENDAR